BEGIN:VCALENDAR
VERSION:2.0
PRODID:-//Coimbatore Medical College - ECPv6.15.3//NONSGML v1.0//EN
CALSCALE:GREGORIAN
METHOD:PUBLISH
X-WR-CALNAME:Coimbatore Medical College
X-ORIGINAL-URL:https://cmccbe.ac.in
X-WR-CALDESC:Events for Coimbatore Medical College
REFRESH-INTERVAL;VALUE=DURATION:PT1H
X-Robots-Tag:noindex
X-PUBLISHED-TTL:PT1H
BEGIN:VTIMEZONE
TZID:UTC
BEGIN:STANDARD
TZOFFSETFROM:+0000
TZOFFSETTO:+0000
TZNAME:UTC
DTSTART:20250101T000000
END:STANDARD
END:VTIMEZONE
BEGIN:VEVENT
DTSTART;TZID=UTC:20250919T080000
DTEND;TZID=UTC:20250920T170000
DTSTAMP:20260421T143904
CREATED:20250919T071022Z
LAST-MODIFIED:20250919T071022Z
UID:17438-1758268800-1758387600@cmccbe.ac.in
SUMMARY:Pterion 2025
DESCRIPTION:Pterion 2025-Academic event
URL:https://cmccbe.ac.in/event/pterion-2025/
CATEGORIES:Student activity
END:VEVENT
END:VCALENDAR